BEGIN:VCALENDAR
VERSION:2.0
PRODID:-//81.169.145.158//NONSGML kigkonsult.se iCalcreator 2.20//
CALSCALE:GREGORIAN
METHOD:PUBLISH
X-WR-TIMEZONE:Europe/Berlin
BEGIN:VEVENT
UID:event8@FC Bayern Fanclub Blaustein
DTSTAMP:20260420T160757Z
CATEGORIES:Heimspiel
DESCRIPTION:FC Bayern : FC Köln\nKategorie: Heimspiel\nICS-Link: https://ww
 w.fc-bayern-fanclub-blaustein.de/index.php?option=com_jem&view=event&id=8:
 fc-bayern-fc-koeln\n
DTSTART;TZID=Europe/Berlin:20230124T203000
DTEND;TZID=Europe/Berlin:20230124T221500
LOCATION:Alianz Arena\,München
SUMMARY:FC Bayern : FC Köln
URL:https://www.fc-bayern-fanclub-blaustein.de/index.php?option=com_jem&vie
 w=event&id=8:fc-bayern-fc-koeln
END:VEVENT
END:VCALENDAR
