BEGIN:VCALENDAR
VERSION:2.0
PRODID:-//81.169.145.158//NONSGML kigkonsult.se iCalcreator 2.20//
CALSCALE:GREGORIAN
METHOD:PUBLISH
X-WR-TIMEZONE:Europe/Berlin
BEGIN:VEVENT
UID:event19@FC Bayern Fanclub Blaustein
DTSTAMP:20260423T053710Z
CATEGORIES:Champions Lague
DESCRIPTION:FC Bayern : Paris Saint German\nKategorie: Champions Lague\nICS
 -Link: https://www.fc-bayern-fanclub-blaustein.de/index.php?option=com_jem
 &view=event&id=19:fc-bayern-paris-saint-german\n
DTSTART;TZID=Europe/Berlin:20241126T210000
DTEND;TZID=Europe/Berlin:20241126T224500
LOCATION:Alianz Arena\,München
SUMMARY:FC Bayern : Paris Saint German
URL:https://www.fc-bayern-fanclub-blaustein.de/index.php?option=com_jem&vie
 w=event&id=19:fc-bayern-paris-saint-german
END:VEVENT
END:VCALENDAR
